{"text_format":"1","workbook":"xlsx","n_sheets":10,"sheets":["集計1","目次","ｼｰﾄ0","ｼｰﾄ1","ｼｰﾄ2","ｼｰﾄ3","ｼｰﾄ4","ｼｰﾄ5","ｼｰﾄ6","Sheet1"],"not_rendered":{"charts":0,"images":0,"macros":1,"external_links":0,"defined_names":7,"comments":0,"pivot_tables":0},"unopened":[],"bounds":{"document_bytes":16777216,"sheet_cells":100000,"rows_first":2000,"rows_last":500,"rows_between":2000,"halvings":0,"cell_chars":16384,"cell_head_chars":4096},"cells_cut":0,"cells_raw":0,"read":"whole","date_system":"1900"}

{"sheet":"集計1","index":0,"n_rows":43,"n_cols":39,"rows_kept":43,"cut":false,"hidden":true,"merged":[[0,16,0,20],[2,4,2,21],[0,14,0,15],[5,18,9,18],[5,17,9,17],[5,6,9,6],[5,10,9,10],[3,4,9,4],[5,5,9,5],[5,8,9,8],[5,20,9,20],[5,13,9,13],[2,38,9,38],[2,37,9,37],[4,27,5,28],[6,29,9,29],[6,24,9,24],[6,27,9,27],[3,36,9,36],[4,35,9,35],[6,33,9,33],[6,30,9,30],[4,29,5,33],[6,32,9,32],[6,28,9,28],[3,34,3,35],[2,27,2,36],[2,23,2,26],[2,0,10,0],[2,3,9,3],[10,14,10,17],[10,18,10,21],[3,6,4,9],[3,10,4,13],[5,7,9,7],[3,14,4,17],[2,1,9,1],[2,2,9,2],[5,9,9,9],[5,11,9,11],[8,15,9,15],[5,15,7,15],[3,18,4,21],[4,34,9,34],[10,6,10,9],[10,10,10,13],[5,21,9,21],[6,25,9,25],[5,14,9,14],[5,19,9,19],[3,23,5,23],[5,16,9,16],[5,12,9,12],[3,24,5,26],[3,27,3,33],[6,31,9,31],[6,26,9,26],[6,23,9,23]]}
[null,"集計(macro)　主要地域の地盤沈下等の状況（地域計）",null,null,null,null,null,null,null," "]
[]
["番号","都道府県","地　域","令和３年度\n水準測量が実施された地域              ","地　　盤　　沈　　下　　の　　状　　況",null,null,null,null,null,null,null,null,null,null,null,null,null,null,null,null,null,"地盤沈下防止等対策要綱","観測状況",null,null,null,"被害の状況\n●:対策済　○:一部対策が施されているものを含め、現在なお被害が認められるもの　△:極めて局部的に被害が認められるもの",null,null,null,null,null,null,null,null,null,"地　域","都道府県"]
[null,null,null,null,"現在までに\n沈下が認め\nられた地域\nの面積(㎢)",null,"地域内での水準点の\n累計沈下量",null,null,null,"地域内での水準点の直近５年間の\n累計沈下量",null,null,null,"直近の測量による水準点の\n１年間沈下量",null,null,null,"R３年度の測量で沈下が生じている\n地域の沈下量別面積（㎢）",null,null,null,"  規制地域 ：■","水準\n測量","観測井戸数(本)",null,null,"直接被害",null,null,null,null,null,null,"間接被害",null," 地下水の塩水化"]
[null,null,null,null,null,null,null,null,null,null,null,null,null,null,null,null,null,null,null,null,null,null,"  観測地域 ：◆",null,null,null,null,"一般施設",null,"公共施設",null,null,null,null," 洪水・高潮の危険性大"," 排水不良"]
[null,null,null,null,null,"ゼロメートル地帯面積(㎢)","最大値\n（ｃｍ）","対象　　　期間","水準点番号","所在地","最大値\n（ｃｍ）","対象　　　期間","水準点番号","所在地","最大値\n（ｃｍ）","測量の\n年度","水準点番号","所在地","1cm/年\n以上","2cm/年\n以上","3cm/年\n以上","4cm/年\n以上"]
[null,null,null,null,null,null,null,null,null,null,null,null,null,null,null,null,null,null,null,null,null,null,"地方の規制等","測量\n距離\n(km)","地下\n水位\nのみ","地盤\n収縮\nのみ","地下\n水位\n及び\n地盤\n収縮"," 建築物の破損または脆弱化","井戸等の抜け上がり"," 港湾・海岸施 設の沈下　　　　　　","堤防・護岸等の沈下","道路・橋梁等の沈下・破損","農業用水路の沈下・破損","埋設物の破損"]
[null,null,null,null,null,null,null,null,null,null,null,null,null,null,null,null,null,null,null,null,null,null,"　条例 　　　：□　"]
[null,null,null,null,null,null,null,null,null,null,null,null,null,null,null,"または\n期間※",null,null,null,null,null,null,"　要綱等　　：◇　"]
[]
[null,null,null,null,null,null,"\nシート２で入力された内容がコピーされます。",null,null,null,"\nシート２で入力された内容がコピーされます。",null,null,null,"\nシート２で入力された内容がコピーされます。",null,null,null,"\nシート４で入力された内容がコピーされます。"]
[null,{"$f":"IF(ｼｰﾄ0!C4=\"\",\"\",ｼｰﾄ0!C4)","v":"徳島県"},{"$f":"IF(ｼｰﾄ0!C3=\"\",\"\",ｼｰﾄ0!C3)","v":"徳島平野"},{"$f":"IF(OR(ｼｰﾄ1!D23<>\"\",ｼｰﾄ1!E23<>\"\",ｼｰﾄ1!F23<>\"\"),\"○\",\"\")","v":""},{"$f":"IF(ｼｰﾄ3!C67<>\"\",ｼｰﾄ3!C67,\"\")","v":16.600000000000001},{"$f":"IF(ｼｰﾄ3!D67<>\"\",ｼｰﾄ3!D67,\"\")","v":0},{"$f":"IF(ｼｰﾄ1!D11<>\"\",ｼｰﾄ1!D11,\"\")","v":11},{"$f":"IF(ｼｰﾄ1!D9<>\"\",ｼｰﾄ1!D9,\"\")","v":"S39～S46"},{"$f":"IF(ｼｰﾄ1!D5<>\"\",ｼｰﾄ1!D5,\"\")","v":"055-004"},{"$f":"IF(ｼｰﾄ1!D6<>\"\",ｼｰﾄ1!D6,\"\")","v":"徳島市論田町"},{"$f":"IF(ｼｰﾄ1!E12<>\"\",ｼｰﾄ1!E12,\"\")","v":""},{"$f":"IF(ｼｰﾄ1!E9<>\"\",ｼｰﾄ1!E9,\"\")","v":""},{"$f":"IF(ｼｰﾄ1!E5<>\"\",ｼｰﾄ1!E5,\"\")","v":""},{"$f":"IF(ｼｰﾄ1!E6<>\"\",ｼｰﾄ1!E6,\"\")","v":""},{"$f":"IF(ｼｰﾄ1!F13<>\"\",ｼｰﾄ1!F13,\"\")","v":0.6},{"$f":"IF(ｼｰﾄ1!F9<>\"\",ｼｰﾄ1!F9,\"\")","v":"S57"},{"$f":"IF(ｼｰﾄ1!F5<>\"\",ｼｰﾄ1!F5,\"\")","v":"5074"},{"$f":"IF(ｼｰﾄ1!F6<>\"\",ｼｰﾄ1!F6,\"\")","v":"徳島市西須賀町"},{"$f":"IF(ｼｰﾄ3!E67<>\"\",ｼｰﾄ3!E67,\"\")","v":"/"},{"$f":"IF(ｼｰﾄ3!F67<>\"\",ｼｰﾄ3!F67,\"\")","v":"/"},{"$f":"IF(ｼｰﾄ3!G67<>\"\",ｼｰﾄ3!G67,\"\")","v":"/"},{"$f":"IF(ｼｰﾄ3!H67<>\"\",ｼｰﾄ3!H67,\"\")","v":"/"},{"$f":"IF(ｼｰﾄ3!I67<>\"\",ｼｰﾄ3!I67,\"\")","v":"□"},{"$f":"IF(ｼｰﾄ5!D14<>\"\",ｼｰﾄ5!D14,\"\")","v":""},{"$f":"IF(ｼｰﾄ5!D38=\"\",\"\",ｼｰﾄ5!D38)","v":9},{"$f":"IF(ｼｰﾄ5!E38=\"\",\"\",ｼｰﾄ5!E38)","v":""},{"$f":"IF(ｼｰﾄ5!F38=\"\",\"\",ｼｰﾄ5!F38)","v":2},{"$f":"IF(ｼｰﾄ4!C7=\"\",\"\",ｼｰﾄ4!C7)","v":""},{"$f":"IF(ｼｰﾄ4!D7=\"\",\"\",ｼｰﾄ4!D7)","v":""},{"$f":"IF(ｼｰﾄ4!E7=\"\",\"\",ｼｰﾄ4!E7)","v":""},{"$f":"IF(ｼｰﾄ4!F7=\"\",\"\",ｼｰﾄ4!F7)","v":""},{"$f":"IF(ｼｰﾄ4!G7=\"\",\"\",ｼｰﾄ4!G7)","v":""},{"$f":"IF(ｼｰﾄ4!H7=\"\",\"\",ｼｰﾄ4!H7)","v":"○"},{"$f":"IF(ｼｰﾄ4!I7=\"\",\"\",ｼｰﾄ4!I7)","v":""},{"$f":"IF(ｼｰﾄ4!J7=\"\",\"\",ｼｰﾄ4!J7)","v":""},{"$f":"IF(ｼｰﾄ4!K7=\"\",\"\",ｼｰﾄ4!K7)","v":""},{"$f":"IF(ｼｰﾄ4!L7=\"\",\"\",ｼｰﾄ4!L7)","v":"○"},{"$f":"IF(ｼｰﾄ0!C3=\"\",\"\",ｼｰﾄ0!C3)","v":"徳島平野"},{"$f":"IF(ｼｰﾄ0!C4=\"\",\"\",ｼｰﾄ0!C4)","v":"徳島県"}]
[]
[]
[]
[null,null,null,null,null,null,null,null,null,null,null,null,null,null,null,null,null,null,null,null,null,null,null,null,null,null,null,null,"\n"]
[]
[]
[]
[]
[]
[]
[]
[]
[]
[]
[]
[]
[]
[]
[]
[]
[]
[]
[]
[]
[]
[]
[]
[]
[]
[]
[null,null,null,null,null,null,null,null,null,null,null,null,null,null,null,null,null,null,null,null,null,null,null,null,null,null,"□ ◇"]

{"sheet":"目次","index":1,"n_rows":57,"n_cols":6,"rows_kept":57,"cut":false,"hidden":false,"merged":[[0,0,0,1],[0,3,0,5],[1,0,1,1]]}
["新　　＜詳細データ目次＞",null,null,"旧  ＜詳細データ目次＞　"]
["地盤沈下等の概況",null,null,"１．地盤沈下等の概況"]
["０．","地名など"]
["０－１．","地盤環境情報（概要、地下水採取の状況、地盤沈下等の状況、被害、対策）"]
["０－２．","地下水採取規制に関する条例等",null,null,"１－１．","主な水準点における過去10年の沈下量経年変化"]
["１．","主な水準点における過去10年の沈下量経年変化",null,null,"１－２．","代表的な観測井における過去10年の地下水位経年変化"]
["２．","代表的な観測井における過去10年の地下水位経年変化",null,null,"１－３．","地盤沈下地域の面積"]
["３．","主要地域の地盤沈下等の状況（市町村別内訳）",null,null,"１－４．","水位低下等による被害の状況"]
["４．","水位低下等による被害の状況",null,null,"２－１．","地盤沈下監視体制（水準測量）"]
["５．","地盤沈下監視体制（水準測量、観測井戸数）",null,null,"５－２．","工業用水法第５条第２項の適用状況"]
["６．","地区別、用途別、井戸本数及び地下水採取量経年変化"]
[null,null,null,null,"５－５．","工業用水法第10条第３項に基づく届出書受理状況"]
["用水二法の施行状況",null,null,"３．関連制度の状況"]
["１．","工業用水法第３条第１項及び第７条第１項の許可状況",null,null,"３－１．","関連制度の種類"]
["２．","工業用水法第５条第２項の適用状況",null,null,"３－２．","関連制度の経緯及び改定等の内容"]
["３．","工業用水法第６条第３項に基づく届出書受理状況",null,null,"３－３．","関連制度の内容（法律）"]
["４．","工業用水法第９条に基づく届出書受理状況",null,null,"３－４．","関連制度の内容（条例）"]
["５．","工業用水法第10条第３項に基づく届出書受理状況",null,null,"３－５．","関連制度の内容（要綱）"]
["６．","工業用水法第11条に基づく届出書受理状況",null,null,"３－６．","関連制度の内容（その他）"]
["７．","工業用水法第24条の規定に基づく許可井戸の変更報告状況",null,"４．地下水・地盤沈下対策の状況"]
["８．","工業用水法第24条の規定に基づく井戸使用状況報告",null,null,"４－１．","地下水採取量の用途別削減量"]
["９．","ビル用水法第４条第１項の許可状況",null,null,"４－２．","合理化施策による地下水採取削減量"]
["１０．","ビル用水法第４条第３項の適用状況",null,null,"４－３．","代替水対策による地下水採取削減量"]
["１１．","ビル用水法第６条第３項に基づく届出書受理状況",null,null,"４－４．","地盤沈下対策事業及び調査事業費の推移"]
["１２．","ビル用水法第７条に基づく届出書受理状況",null,null,"４－５．","地盤沈下対策事業（代替水事業）の内容"]
["１３．","ビル用水法第８条第３項に基づく届出書受理状況",null,null,"４－６．","地盤沈下対策事業（防災事業等）の内容"]
["１４．","ビル用水法第９条に基づく届出書受理状況",null,null,"４－７．","調査等事業の内容"]
["１５．","ビル用水法第13条の規定に基づく許可井戸の変更報告状況",null,null,"４－８．","地下水・地盤環境保全施策の組織"]
["１６．","ビル用水法第13条の規定に基づく井戸使用状況報告",null,"５．用水二法の施行状況"]
[null,null,null,null,"５－６．","工業用水法第11条に基づく届出書受理状況"]
[null,null,null,null,"５－７．","工業用水法第24条の規定に基づく許可井戸の変更報告状況"]
[null,null,null,null,"５－８．","工業用水法第24条の規定に基づく井戸使用状況報告"]
[null,null,null,null,"５－９．","ビル用水法第４条第１項の許可状況"]
[null,null,null,null,"５－10．","ビル用水法第４条第３項の適用状況"]
[null,null,null,null,"５－11．","ビル用水法第６条第３項に基づく届出書受理状況"]
[null,null,null,null,"５－12．","ビル用水法第７条に基づく届出書受理状況"]
[null,null,null,null,"５－13．","ビル用水法第８条第３項に基づく届出書受理状況"]
[null,null,null,null,"５－14．","ビル用水法第９条に基づく届出書受理状況"]
[null,null,null,null,"５－15．","ビル用水法第13条の規定に基づく許可井戸の変更報告状況"]
[null,null,null,null,"５－16．","ビル用水法第13条の規定に基づく井戸使用状況報告"]
[null,null,null,"６．地下水の利用状況"]
[null,null,null,null,"６－１．","地区別、用途別、井戸本数及び地下水採取量経年変化"]
[null,null,null,null,"６－２．","地下水採取量等の調査の内容"]
[null,null,null,null,"６－３．","地下水の月別採取量"]
[null,null,null,null,"６－４．","特定用途の地下水採取量（天然ガスかん水）"]
[null,null,null,null,"６－５．","特定用途の地下水採取量（温泉水）"]
[null,null,null,null,"６－６．","特定用途の地下水採取量（農業用水）"]
[null,null,null,null,"６－７．","特定用途の地下水採取量（道路消雪用水）"]
[null,null,null,"７．その他"]
[null,null,null,null,"７－１．","健全な水循環の確保に向けての取組みに関する調査（地下水保全計画等を含む）"]
[null,null,null,null,"７－２．","地盤環境に係る情報システムの整備状況"]
[null,null,null,null,"７－３．","地盤環境に係る情報開示の状況"]
[null,null,null,null,"７－４．","アンケート"]
[]
[null,null,null,null,null,"：ピンク色の項目群が調査依頼の対象外としました。"]
[]
[null,null,null,"※ 地域により該当のデータがない場合があります。"]

{"sheet":"ｼｰﾄ0","index":2,"n_rows":4,"n_cols":3,"rows_kept":4,"cut":false,"hidden":false,"merged":[]}
[null,"地域名など"]
[]
[null,"地域名（○○平野、△△盆地など）","徳島平野"]
[null,"地域が存在する都道府県名","徳島県"]

{"sheet":"ｼｰﾄ1","index":3,"n_rows":25,"n_cols":248,"rows_kept":25,"cut":false,"hidden":false,"merged":[[24,3,24,5],[25,3,25,5],[26,3,26,5],[27,3,27,5],[6,1,6,2],[7,1,7,2],[8,1,8,2],[9,1,9,2],[10,1,22,1],[23,3,23,5],[2,1,2,2],[2,3,2,5],[3,1,3,2],[4,1,4,2],[5,1,5,2]]}
[{"$f":"IF(COUNTA(D5:F23)<>0,1,2)","v":1},"１　主な水準点における過去10年の沈下量経年変化",null,null,null,null,null,null,null,null,null,null,null,null,null,null,null,null,null,null,null,null,null,null,null,null,null,null,null,null,null,null,null,null,null,null,null,null,null,null,null,null,null,null,null,null,null,null,null,null,null,null,null,null,null,null,null,null,null,null,null,null,null,null,null,null,null,null,null,null,null,null,null,null,null,null,null,null,null,null,null,null,null,null,null,null,null,null,null,null,null,null,null,null,null,null,null,null,null,null,null,null,null,null,null,null,null,null,null,null,null,null,null,null,null,null,null,null,null,null,null,null,null,null,null,null,null,null,null,null,null,null,null,null,null,null,null,null,null,null,null,null,null,null,null,null,null,null,null,null,null,null,null,null,null,null,null,null,null,null,null,null,null,null,null,null,null,null,null,null,null,null,null,null,null,null,null,null,null,null,null,null,null,null,null,null,null,null,null,null,null,null,null,null,null,null,null,null,null,null,null,null,null,null,null,null,null,null,null,null,null,null,null,null,null,null,null,null,null,null,null,null,null,null,null,null,null,null,null,null,null,null,null,null,null,null,null,null,null,null,null,null,null,null,null,null,null,3]
[]
[null,"地域名",null,{"$f":"IF(ｼｰﾄ0!C3=\"\",\"\",ｼｰﾄ0!C4 & (ｼｰﾄ0!C3))","v":"徳島県徳島平野"},null,null,null,null,null,null,null,null,null,null,null,null,null,null,null,null,null,null,null,null,null,null,null,null,null,null,null,null,null,null,null,null,null,null,null,null,null,null,null,null,null,null,null,null,null,null,null,null,null,null,null,null,null,null,null,null,null,null,null,null,null,null,null,null,null,null,null,null,null,null,null,null,null,null,null,null,null,null,null,null,null,null,null,null,null,null,null,null,null,null,null,null,null,null,null,null,null,null,null,null,null,null,null,null,null,null,null,null,null,null,null,null,null,null,null,null,null,null,null,null,null,null,null,null,null,null,null,null,null,null,null,null,null,null,null,null,null,null,null,null,null,null,null,null,null,null,null,null,null,null,null,null,null,null,null,null,null,null,null,null,null,null,null,null,null,null,null,null,null,null,null,null,null,null,null,null,null,null,null,null,null,null,null,null,null,null,null,null,null,null,null,null,null,null,null,null,null,null,null,null,null,null,null,null,null,null,null,null,null,null,null,null,null,null,null,null,null,null,null,null,null,null,null,null,null,null,null,null,null,null,null,null,null,null,null,null,null,null,null,null,null,null,null,1]
[null,"区分",null,"①累計沈下量が最大\nの水準点","②直近の測量がＨ２９～Ｒ３年度の間に行われた水準点のうち、５年間の累計沈下量が最大の水準点","③直近の測量による年間\n沈下量が最大の水準点"]
[null,"水準点番号",null,"055-004",null,"5074"]
[null,"水準点所在地",null,"徳島市論田町",null,"徳島市西須賀町"]
[null,"所轄機関"]
[null,"測量実施期間",null,"S39～S46"]
[null,"対象期間又は年度",null,"S39～S46",null,"S57"]
[null,"平成23年度以前に実施した\n最終測量年度"]
[null,"沈下量(cm)","累計沈下量",11]
[null,null,"５年間累計沈下量"]
[null,null,"直近単年度最大沈下量",null,null,0.6]
[null,null,"平成24年度"]
[null,null,"平成25年度"]
[null,null,"平成26年度"]
[null,null,"平成27年度"]
[null,null,"平成28年度"]
[null,null,"平成29年度"]
[null,null,"平成30年度"]
[null,null,"令和元年度"]
[null,null,"令和２年度"]
[null,null,"令和３年度"]
[null,null,"<備考>","１．沈下量の基準点は、　　　　　　　　　（所在地：　　　　　　　　　　　　　　　　　　　　）"]
[null,null,null,"２．測量の基準日："]

{"sheet":"ｼｰﾄ2","index":4,"n_rows":22,"n_cols":4,"rows_kept":22,"cut":false,"hidden":false,"merged":[[7,1,7,2],[22,3,22,6],[23,3,23,6],[24,3,24,6],[8,1,8,2],[9,1,9,2],[10,1,10,2],[11,1,14,1],[15,1,20,1],[21,3,21,6],[2,1,2,2],[3,1,3,2],[4,1,4,2],[5,1,5,2],[6,1,6,2]]}
[{"$f":"IF(COUNTA(D4:G21)<>0,1,2)","v":1},"２　代表的な観測井における過去10年の地下水位経年変化"]
[null,"地域名"]
[null,{"$f":"IF(ｼｰﾄ0!C3=\"\",\"\",ｼｰﾄ0!C4   & (ｼｰﾄ0!C3) )","v":"徳島県徳島平野"}]
[null,"観測井名称",null,"今切第１"]
[null,"観測井所在地",null,"徳島市川内町\n加賀須野"]
[null,"観測井標高(T.P.m)",null,0.96]
[null,"ストレーナー位置\n（地表面下深さ）",null,"４０～６０ｍ"]
[null,"所轄機関",null,"徳島県（環境管理課）"]
[null,"地下水の類別",null,"被圧地下水(C層)"]
[null,"設置年度",null,"Ｓ４３"]
[null,"既往最低水位",null,2.4300000000000002]
[null,"水位","平成24年度",0.26]
[null,null,"平成25年度",0.26]
[null,null,"平成26年度",0.25]
[null,null,"平成27年度",0.22]
[null,"(m)","平成28年度",0.24]
[null,null,"平成29年度",0.34]
[null,null,"平成30年度",0.27]
[null,null,"令和元年度",0.28000000000000003]
[null,null,"令和２年度",0.18]
[null,null,"令和３年度",0.17]
[null,null,"<備考>","水位の説明：地下水位は井戸天端から地下水面までの距離　数値は年間の平均値"]

{"sheet":"ｼｰﾄ3","index":5,"n_rows":93,"n_cols":13,"rows_kept":93,"cut":false,"hidden":false,"merged":[[66,8,66,11],[68,2,68,7],[69,2,69,7],[70,2,70,7],[2,1,2,2],[3,1,5,1],[3,2,5,2],[3,4,3,7],[4,3,5,3],[4,4,5,4],[4,5,5,5],[4,6,5,6],[4,7,5,7],[3,8,3,9],[3,10,3,11],[90,11,90,12],[91,11,91,12],[92,11,92,12],[78,11,78,12],[79,11,79,12],[80,11,80,12],[81,11,81,12],[82,11,82,12],[83,11,83,12],[84,11,84,12],[85,11,85,12],[86,11,86,12],[87,11,87,12],[88,11,88,12],[89,11,89,12]]}
[{"$f":"IF(COUNTA(B7:H66)<>0,1,2)","v":1},"３　主要地域の地盤沈下等の状況（市町村別内訳）"]
[null,"地域名"]
[null,{"$f":"IF(ｼｰﾄ0!C3=\"\",\"\",ｼｰﾄ0!C4   & (ｼｰﾄ0!C3) )","v":"徳島県徳島平野"}]
[null,"地域内で、過去に地盤沈下が認められた市区町村名をご記入ください。\n※１　　　　　　\n(沈下記録のある市区町村名）\n","左記の市区町村の沈下総面積(㎢)\n（小数第１位まで記入してください。）",null,"左記市区町村※１において、令和3年度水準点測量で1cm以上沈下が生じている沈下量別面積（㎢）",null,null,null,"左記市区町村※１が\n地盤沈下防止等対策要綱の\n地域の場合",null,"左記市区町村※１に関わる\n条例等"]
[null,null,null,"ゼロｍ地帯  面積(㎢)\n（小数第１位まで記入してください。）","1cm/年\n以上","2cm/年\n以上","3cm/年\n以上","4cm/年\n以上","規制地域","観測地域","条例","要項等"]
[null,null,null,null,null,null,null,null,"■","◆","□","◇"]
[{"$f":"IF(COUNTIF(E7:E66,\"/\")>=1,1,\"\")","v":1},"徳島市[国府北部]",null,null,null,"　",null,null,null,null,"□"]
[{"$f":"IF(COUNTIF(E7:E66,\"-\")>=1,2,\"\")","v":""},"鳴門市〔大麻〕",4.4000000000000004,0,"/","/","/","/",null,null,"□"]
[{"$f":"IF(COUNTIF(E7:E66,\"#\")>=1,4,\"\")","v":""},"鳴門市〔大津西部〕",2.1,0,"/","/","/","/",null,null,"□",null,"徳島県生活環境保全条例"]
[null,"松茂町",5,0,"/","/","/","/",null,null,"□"]
[{"$f":"IF(COUNTIF(F7:F66,\"-\")>=1,2,\"\")","v":""},"藍住町",5.0999999999999996,0,"/","/","/","/",null,null,"□"]
[{"$f":"IF(COUNTIF(F7:F66,\"/\")>=1,1,\"\")","v":1}]
[{"$f":"IF(COUNTIF(F7:F66,\"#\")>=1,4,\"\")","v":""}]
[]
[{"$f":"IF(COUNTIF(G7:G66,\"/\")>=1,1,\"\")","v":1}]
[{"$f":"IF(COUNTIF(G7:G66,\"-\")>=1,2,\"\")","v":""}]
[{"$f":"IF(COUNTIF(G7:G66,\"#\")>=1,4,\"\")","v":""}]
[]
[{"$f":"IF(COUNTIF(H7:H66,\"/\")>=1,1,\"\")","v":1}]
[{"$f":"IF(COUNTIF(H7:H66,\"-\")>=1,2,\"\")","v":""}]
[{"$f":"IF(COUNTIF(H7:H66,\"#\")>=1,4,\"\")","v":""}]
[]
[]
[]
[]
[]
[]
[]
[]
[]
[]
[]
[]
[]
[]
[]
[]
[]
[]
[]
[]
[]
[]
[]
[]
[]
[]
[]
[]
[]
[]
[]
[]
[]
[]
[]
[]
[]
[]
[]
[]
[]
[]
[]
[]
[]
[null,null,{"$f":"IF(COUNTA(C7:C66)<>0,SUM(C7:C66),\"\")","v":16.600000000000001},{"$f":"IF(COUNTA(D7:D66)<>0,SUM(D7:D66),\"\")","v":0},{"$f":"IF(COUNT(E7:E66)>=1,SUM(E7:E66),IF(SUM(A7:A9)=1,\"/\",IF(SUM(A7:A9)=2,\"-\",IF(SUM(A7:A9)=4,\"#\",IF(SUM(A7:A9)=3,\"/ -\",IF(SUM(A7:A9)=5,\"/ #\",IF(SUM(A7:A9)=6,\"- #\",IF(SUM(A7:A9)=7,\"/ - #\",\"\"))))))))","v":"/"},{"$f":"IF(COUNT(F7:F66)>=1,SUM(F7:F66),IF(SUM(A11:A13)=1,\"/\",IF(SUM(A11:A13)=2,\"-\",IF(SUM(A11:A13)=4,\"#\",IF(SUM(A11:A13)=3,\"/ -\",IF(SUM(A11:A13)=5,\"/ #\",IF(SUM(A11:A13)=6,\"- #\",IF(SUM(A11:A13)=7,\"/ - #\",\"\"))))))))","v":"/"},{"$f":"IF(COUNT(G7:G66)>=1,SUM(G7:G66),IF(SUM(A15:A17)=1,\"/\",IF(SUM(A15:A17)=2,\"-\",IF(SUM(A15:A17)=4,\"#\",IF(SUM(A15:A17)=3,\"/ -\",IF(SUM(A15:A17)=5,\"/ #\",IF(SUM(A15:A17)=6,\"- #\",IF(SUM(A15:A17)=7,\"/ - #\",\"\"))))))))","v":"/"},{"$f":"IF(COUNT(H7:H66)>=1,SUM(H7:H66),IF(SUM(A19:A21)=1,\"/\",IF(SUM(A19:A21)=2,\"-\",IF(SUM(A19:A21)=4,\"#\",IF(SUM(A19:A21)=3,\"/ -\",IF(SUM(A19:A21)=5,\"/ #\",IF(SUM(A19:A21)=6,\"- #\",IF(SUM(A19:A21)=7,\"/ - #\",\"\"))))))))","v":"/"},{"$f":"IF($I$79=0,\"\",VLOOKUP($I$79,$K$79:$L$93,2,FALSE))","v":"□"}]
[null,null,"<備考>"]
[null,null,"・△△の調査は隔年で行っている。"]
[null,null,"・○○市の面積データが大きい原因としては地震によるものである。"]
[]
[]
[]
[]
[]
[]
[]
[null,null,null,null,"■","◆","□","◇"]
[null,null,null,null,{"$f":"IF(COUNTA($I$7:$I$66)=0,0,1)","v":0},{"$f":"IF(COUNTA($J$7:$J$66)=0,0,2)","v":0},{"$f":"IF(COUNTA($K$7:$K$66)=0,0,4)","v":4},{"$f":"IF(COUNTA($L$7:$L$66)=0,0,8)","v":0},{"$f":"SUM($E$79:$H$79)","v":4},null,1,"■"]
[null,null,null,null,null,null,null,null,null,null,2,"◆"]
[null,null,null,null,null,null,null,null,null,null,3,"■ ◆ "]
[null,null,null,null,null,null,null,null,null,null,4,"□"]
[null,null,null,null,null,null,null,null,null,null,5,"■ □"]
[null,null,null,null,null,null,null,null,null,null,6,"◆ □ "]
[null,null,null,null,null,null,null,null,null,null,7,"■ ◆ □"]
[null,null,null,null,null,null,null,null,null,null,8,"◇"]
[null,null,null,null,null,null,null,null,null,null,9,"■ ◇"]
[null,null,null,null,null,null,null,null,null,null,10,"◆ ◇ "]
[null,null,null,null,null,null,null,null,null,null,11,"■ ◆ ◇"]
[null,null,null,null,null,null,null,null,null,null,12,"□ ◇"]
[null,null,null,null,null,null,null,null,null,null,13,"■ □ ◇"]
[null,null,null,null,null,null,null,null,null,null,14,"◆ □ ◇"]
[null,null,null,null,null,null,null,null,null,null,15,"■ ◆ □ ◇"]

{"sheet":"ｼｰﾄ4","index":6,"n_rows":12,"n_cols":13,"rows_kept":12,"cut":false,"hidden":false,"merged":[[2,1,5,1],[2,12,5,12],[3,2,3,8],[3,9,3,10],[3,11,5,11],[4,2,4,3],[4,4,4,8],[4,9,5,9],[4,10,5,10],[2,2,2,11]]}
[{"$f":"IF(COUNTA(C7:M7)<>0,1,2)","v":1},"４　水位低下等による被害の状況"]
[]
[null,"地　域","被　害　別　対　策　状　況",null,null,null,null,null,null,null,null,null,"被害に対する対策状況"]
[null,null,"直　　接　　被　　害",null,null,null,null,null,null,"間接被害",null,"地下水の塩水化"]
[null,null,"一般施設",null,"公　共　施　設",null,null,null,null,"洪水・高潮の危険性大","排水不良"]
[null,null,"建築物の破損または脆弱化","井戸等の抜け上がり","港湾・海岸施設の沈下　　　　　　","堤防・護岸等の沈下","道路・橋梁等の沈下・破損","農業用水路の沈下・破損","埋設物の破損"]
[null,{"$f":"IF(ｼｰﾄ0!C3=\"\",\"\",ｼｰﾄ0!C4&ｼｰﾄ0!C3)","v":"徳島県徳島平野"},null,null,null,null,null,"○",null,null,null,"○"]
[]
[null,"<記載の注意点>","●：これまでに発生したすべての被害について、令和３年度に対策を行い、被害が解消された。（令和２年度までに、すべての対策が終了していれば「（空欄）」になります。）"]
[null,null,"○ ：令和３年度末時点において、過去の被害も含め一部対策を行っている。（すべての被害について対策が終了していない場合）"]
[null,null,"△ ：令和３年度末時点において、過去の被害も含め対策は行っていない。（被害の大小に関係なくご記入願います。）"]
[null,null,"（空欄）：「令和３年度に新たな被害が認められない場合」又は「令和２年度までに、これまでに発生したすべての被害について対策済みである場合」"]

{"sheet":"ｼｰﾄ5","index":7,"n_rows":47,"n_cols":8,"rows_kept":47,"cut":false,"hidden":false,"merged":[[46,1,46,2],[40,1,41,1],[40,2,41,2],[40,3,40,5],[40,6,41,6],[42,1,45,1],[31,3,31,5],[31,6,32,6],[37,1,37,2],[17,3,17,7],[19,2,20,2],[21,2,22,2],[23,2,24,2],[25,2,26,2],[17,1,18,1],[17,2,18,2],[27,1,28,1],[31,1,32,1],[31,2,32,2],[33,1,36,1],[3,3,3,7],[3,2,4,2],[3,1,4,1],[13,1,14,1],[5,2,6,2],[7,2,8,2],[9,2,10,2],[11,2,12,2],[5,1,12,1]]}
[{"$f":"IF(COUNTA(D6:H13)<>0,1,2)","v":2},"５　地盤沈下監視体制（水準測量、観測井戸数）"]
[]
[null,"※令和３年度に水準測量が実施された場合に記入して下さい"]
[null,"地域名","観測機関\n（事業主体）","水準測量"]
[null,null,null,"測量距離\n（㎞）","測量面積\n（㎢）","水準点数\n（点）","水準測量\n（一級・二級）","測量基準日"]
[null,{"$f":"IF(OR(ｼｰﾄ0!C3=\"\",ｼｰﾄ0!C4=\"\"),\"\",ｼｰﾄ0!C4&ｼｰﾄ0!C3)","v":"徳島県徳島平野"},"自治体\n（都道府県・指定都市）"]
[]
[null,null,"管内市町村"]
[]
[null,null,"国\n（ 国交省、農林省、\n国土地理院等 ）"]
[]
[null,null,"その他　　　　　　　　"]
[]
[null,"合　　　計","一級水準測量",{"$f":"IF(COUNTA(D6:D13)=0,\"\",SUMIFS(D6:D13,$G$6:$G$13,$C$14))","v":""},{"$f":"IF(COUNTA(E6:E13)=0,\"\",SUMIFS(E6:E13,$G$6:$G$13,$C$14))","v":""},""]
[null,null,"二級水準測量",{"$f":"IF(COUNTA(D6:D13)=0,\"\",SUMIFS(D6:D13,$G$6:$G$13,$C$15))","v":""},{"$f":"IF(COUNTA(E6:E13)=0,\"\",SUMIFS(E6:E13,$G$6:$G$13,$C$15))","v":""},{"$f":"IF(COUNTA(F6:F13)=0,\"\",SUMIFS(F6:F13,$G$6:$G$13,$C$15))","v":""}]
[]
[null,"※令和３年度に調査対象地域以外で水準測量が実施された場合に記入して下さい"]
[null,"調査対象地域以外の地域名","観測機関\n（事業主体）","水準測量"]
[null,null,null,"測量距離\n（㎞）","測量面積\n（㎢）","水準点数\n（点）","水準測量\n（一級・二級）","測量基準日"]
[null,null,"自治体\n（都道府県・指定都市）"]
[]
[null,null,"管内市町村"]
[]
[null,null,"国\n（ 国交省、農林省、\n国土地理院等 ）"]
[]
[null,null,"その他　　　　　　　　"]
[]
[null,"合　　　計","一級水準測量",{"$f":"IF(COUNTA(D20:D27)=0,\"\",SUMIFS(D20:D27,$G$20:$G$27,$C$28))","v":""},{"$f":"IF(COUNTA(E20:E27)=0,\"\",SUMIFS(E20:E27,$G$20:$G$27,$C$28))","v":""},{"$f":"IF(COUNTA(F20:F27)=0,\"\",SUMIFS(F20:F27,$G$20:$G$27,$C$28))","v":""}]
[null,null,"二級水準測量",{"$f":"IF(COUNTA(D20:D27)=0,\"\",SUMIFS(D20:D27,$G$20:$G$27,$C$29))","v":""},{"$f":"IF(COUNTA(E20:E27)=0,\"\",SUMIFS(E20:E27,$G$20:$G$27,$C$29))","v":""},{"$f":"IF(COUNTA(F20:F27)=0,\"\",SUMIFS(F20:F27,$G$20:$G$27,$C$29))","v":""}]
[]
[null,"※令和３年度末時点の観測井戸数を記入して下さい"]
[null,"地域名","観測機関\n（事業主体）","観測井戸数（本）",null,null,"観測井戸数合計\n（本）"]
[null,null,null,"地下水位のみ\n観測井戸数(本）","地盤収縮のみ\n観測井戸数（本）","地下水位及び\n地盤収縮\n観測井戸数（本）"]
[null,{"$f":"IF(OR(ｼｰﾄ0!C3=\"\",ｼｰﾄ0!C4=\"\"),\"\",ｼｰﾄ0!C4&ｼｰﾄ0!C3)","v":"徳島県徳島平野"},"自治体\n（都道府県・指定都市）",9,null,2,{"$f":"IF(COUNTA(D34:F34)=0,\"\",SUM(D34:F34))","v":11}]
[null,null,"管内市町村",null,null,null,{"$f":"IF(COUNTA(D35:F35)=0,\"\",SUM(D35:F35))","v":""}]
[null,null,"国\n（ 国交省、農林省、\n国土地理院等 ）",null,null,null,{"$f":"IF(COUNTA(D36:F36)=0,\"\",SUM(D36:F36))","v":""}]
[null,null,"その他",null,null,null,{"$f":"IF(COUNTA(D37:F37)=0,\"\",SUM(D37:F37))","v":""}]
[null,"合　　　計　（本数）",null,{"$f":"IF(SUM(D34:D37)=0,\"\",SUM(D34:D37))","v":9},{"$f":"IF(SUM(E34:E37)=0,\"\",SUM(E34:E37))","v":""},{"$f":"IF(SUM(F34:F37)=0,\"\",SUM(F34:F37))","v":2},{"$f":"IF(SUM(G34:G37)=0,\"\",SUM(G34:G37))","v":11}]
[]
[null,"※令和３年度末時点の調査対象地域以外の観測井戸数を記入して下さい"]
[null,"調査対象地域以外の地域名","観測機関\n（事業主体）","観測井戸数（本）",null,null,"観測井戸数合計\n（本）"]
[null,null,null,"地下水位のみ\n観測井戸数(本）","地盤収縮のみ\n観測井戸数（本）","地下水位及び\n地盤収縮\n観測井戸数（本）"]
[null,null,"自治体\n（都道府県・指定都市）",null,null,null,{"$f":"IF(COUNTA(D43:F43)=0,\"\",SUM(D43:F43))","v":""}]
[null,null,"管内市町村",null,null,null,{"$f":"IF(COUNTA(D44:F44)=0,\"\",SUM(D44:F44))","v":""}]
[null,null,"国\n（ 国交省、農林省、\n国土地理院等 ）",null,null,null,{"$f":"IF(COUNTA(D45:F45)=0,\"\",SUM(D45:F45))","v":""}]
[null,null,"その他",null,null,null,{"$f":"IF(COUNTA(D46:F46)=0,\"\",SUM(D46:F46))","v":""}]
[null,"合　　　計　（本数）",null,{"$f":"IF(SUM(D43:D46)=0,\"\",SUM(D43:D46))","v":""},{"$f":"IF(SUM(E43:E46)=0,\"\",SUM(E43:E46))","v":""},{"$f":"IF(SUM(F43:F46)=0,\"\",SUM(F43:F46))","v":""},{"$f":"IF(SUM(G43:G46)=0,\"\",SUM(G43:G46))","v":""}]

{"sheet":"ｼｰﾄ6","index":8,"n_rows":68,"n_cols":19,"rows_kept":68,"cut":false,"hidden":false,"merged":[[2,16,2,18],[67,3,70,3],[68,4,68,12],[69,4,69,12],[70,4,70,12],[60,13,60,18],[61,13,61,18],[62,13,62,18],[63,13,63,18],[64,13,64,18],[67,4,67,12],[2,4,2,6],[2,13,2,15],[2,7,2,9],[2,10,2,12],[2,3,4,3],[53,2,58,2],[2,1,4,1],[17,2,22,2],[23,2,28,2],[41,2,46,2],[53,1,58,1],[17,1,22,1],[23,1,28,1],[41,1,46,1],[2,2,4,2],[47,1,52,1],[11,1,16,1],[5,1,10,1],[29,1,34,1],[35,1,40,1]]}
[1,"６　地域別、用途別、井戸本数及び地下水採取量経年変化"]
[{"$f":"IF(COUNTA(E6:S10)<>0,1,2)","v":1}]
[null,"地域名","地区名","用　途","平成29年度",null,null,"平成30年度",null,null,"令和元年度",null,null,"令和2年度",null,null,"令和3年度"]
[null,null,null,null,"井戸\n本数","採取量",null,"井戸\n本数","採取量",null,"井戸\n本数","採取量",null,"井戸\n本数","採取量",null,"井戸\n本数","採取量"]
[null,null,null,null,"本","千㎥/日","百万\n㎥/年","本","千㎥/日","百万\n㎥/年","本","千㎥/日","百万\n㎥/年","本","千㎥/日","百万\n㎥/年","本","千㎥/日","百万\n㎥/年"]
[null,{"$f":"ｼｰﾄ0!$C$3","v":"徳島平野"},null,"工業用",null,54]
[null,null,null,"建築物用"]
[null,null,null,"上水道用",34,56,null,35,56,null,35,56,null,35,56,null,35,56]
[null,null,null,"農業用"]
[null,null,null,"その他"]
[null,null,null,"①　計",{"$f":"IF(COUNT(E6:E10)>=1,SUM(E6:E10),\"\")","v":34},{"$f":"IF(COUNT(F6:F10)>=1,SUM(F6:F10),\"\")","v":110},"",{"$f":"IF(COUNT(H6:H10)>=1,SUM(H6:H10),\"\")","v":35},{"$f":"IF(COUNT(I6:I10)>=1,SUM(I6:I10),\"\")","v":56},"",{"$f":"IF(COUNT(K6:K10)>=1,SUM(K6:K10),\"\")","v":35},{"$f":"IF(COUNT(L6:L10)>=1,SUM(L6:L10),\"\")","v":56},"",{"$f":"IF(COUNT(N6:N10)>=1,SUM(N6:N10),\"\")","v":35},{"$f":"IF(COUNT(O6:O10)>=1,SUM(O6:O10),\"\")","v":56},"",35,{"$f":"IF(COUNT(R6:R10)>=1,SUM(R6:R10),\"\")","v":56},""]
[null,{"$f":"ｼｰﾄ0!$C$3","v":"徳島平野"},null,"工業用"]
[null,null,null,"建築物用"]
[null,null,null,"上水道用"]
[null,null,null,"農業用"]
[null,null,null,"その他"]
[null,null,null,"②　計",{"$f":"IF(COUNT(E12:E16)>=1,SUM(E12:E16),\"\")","v":""},"","","","","","","","","","","","","",""]
[null,{"$f":"ｼｰﾄ0!$C$3","v":"徳島平野"},null,"工業用"]
[null,null,null,"建築物用"]
[null,null,null,"上水道用"]
[null,null,null,"農業用"]
[null,null,null,"その他"]
[null,null,null,"③　計",{"$f":"IF(COUNT(E18:E22)>=1,SUM(E18:E22),\"\")","v":""},"","","","","","","","","","","","","",""]
[null,{"$f":"ｼｰﾄ0!$C$3","v":"徳島平野"},null,"工業用"]
[null,null,null,"建築物用"]
[null,null,null,"上水道用"]
[null,null,null,"農業用"]
[null,null,null,"その他"]
[null,null,null,"④　計",{"$f":"IF(COUNT(E24:E28)>=1,SUM(E24:E28),\"\")","v":""},"",{"$f":"IF(COUNT(G24:G28)>=1,SUM(G24:G28),\"\")","v":""},"","","","","","","","","","","",""]
[null,{"$f":"ｼｰﾄ0!$C$3","v":"徳島平野"},null,"工業用"]
[null,null,null,"建築物用"]
[null,null,null,"上水道用"]
[null,null,null,"農業用"]
[null,null,null,"その他"]
[null,null,null,"⑤　計",{"$f":"IF(COUNT(E30:E34)>=1,SUM(E30:E34),\"\")","v":""},"","","","","","","","","","","","","",""]
[null,{"$f":"ｼｰﾄ0!$C$3","v":"徳島平野"},null,"工業用"]
[null,null,null,"建築物用"]
[null,null,null,"上水道用"]
[null,null,null,"農業用"]
[null,null,null,"その他"]
[null,null,null,"⑥　計",{"$f":"IF(COUNT(E36:E40)>=1,SUM(E36:E40),\"\")","v":""},"",{"$f":"IF(COUNT(G36:G40)>=1,SUM(G36:G40),\"\")","v":""},"","","","","","","","","","","",""]
[null,{"$f":"ｼｰﾄ0!$C$3","v":"徳島平野"},null,"工業用"]
[null,null,null,"建築物用"]
[null,null,null,"上水道用"]
[null,null,null,"農業用"]
[null,null,null,"その他"]
[null,null,null,"⑦　計",{"$f":"IF(COUNT(E42:E46)>=1,SUM(E42:E46),\"\")","v":""},"","","","","","","","","","","",{"$f":"IF(COUNT(Q42:Q46)>=1,SUM(Q42:Q46),\"\")","v":""},"",""]
[null,{"$f":"ｼｰﾄ0!$C$3","v":"徳島平野"},null,"工業用"]
[null,null,null,"建築物用"]
[null,null,null,"上水道用"]
[null,null,null,"農業用"]
[null,null,null,"その他"]
[null,null,null,"⑧　計",{"$f":"IF(COUNT(E48:E52)>=1,SUM(E48:E52),\"\")","v":""},"","","","","","","","","","","","","",""]
[null,"地域\n合計",null,"工業用",{"$f":"IF(COUNT(E6,E12,E18,E24,E30,E36,E42,E48)>=1,SUM(E6,E12,E18,E24,E30,E36,E42,E48),\"\")","v":""},{"$f":"IF(COUNT(F6,F12,F18,F24,F30,F36,F42,F48)>=1,SUM(F6,F12,F18,F24,F30,F36,F42,F48),\"\")","v":54},"","","","","","","","","","","","",""]
[null,null,null,"建築物用",{"$f":"IF(COUNT(E7,E13,E19,E25,E31,E37,E43,E49)>=1,SUM(E7,E13,E19,E25,E31,E37,E43,E49),\"\")","v":""},"","","","","","","","","","","","","",""]
[null,null,null,"上水道用",{"$f":"IF(COUNT(E8,E14,E20,E26,E32,E38,E44,E50)>=1,SUM(E8,E14,E20,E26,E32,E38,E44,E50),\"\")","v":34},56,"",35,56,"",35,56,"",35,56,"",35,56,""]
[null,null,null,"農業用",{"$f":"IF(COUNT(E9,E15,E21,E27,E33,E39,E45,E51)>=1,SUM(E9,E15,E21,E27,E33,E39,E45,E51),\"\")","v":""},"","","","","","","","","","","","","",""]
[null,null,null,"その他",{"$f":"IF(COUNT(E10,E16,E22,E28,E34,E40,E46,E52)>=1,SUM(E10,E16,E22,E28,E34,E40,E46,E52),\"\")","v":""},"","","","","","","","","","",{"$f":"IF(COUNT(P10,P16,P22,P28,P34,P40,P46,P52)>=1,SUM(P10,P16,P22,P28,P34,P40,P46,P52),\"\")","v":""},"","",""]
[null,null,null,"地域の\n合計",{"$f":"SUM(E54:E58)","v":34},{"$f":"SUM(F54:F58)","v":110},0,35,56,0,35,56,0,35,56,0,35,56,0]
[]
[null,null,"備考欄",null,null,null,"調査名：","例：県条例による地下水採取量　届け出書"]
[null,null,null,"工業用"]
[null,null,null,"建築物用"]
[null,null,null,"上水道用"]
[null,null,null,"農業用"]
[]
[null,null,null,"例：　消雪用、融雪用、養魚用、温泉などを含む"]
[null,null,null,"その他（内訳）"]

{"sheet":"Sheet1","index":9,"n_rows":0,"n_cols":0,"rows_kept":0,"cut":false,"hidden":true,"merged":[]}